BEGIN:VCALENDAR
VERSION:2.0
PRODID:-//Natuerlich Julia - ECPv6.15.17//NONSGML v1.0//EN
CALSCALE:GREGORIAN
METHOD:PUBLISH
X-WR-CALNAME:Natuerlich Julia
X-ORIGINAL-URL:https://natuerlichjulia.de
X-WR-CALDESC:Veranstaltungen für Natuerlich Julia
REFRESH-INTERVAL;VALUE=DURATION:PT1H
X-Robots-Tag:noindex
X-PUBLISHED-TTL:PT1H
BEGIN:VTIMEZONE
TZID:UTC
BEGIN:STANDARD
TZOFFSETFROM:+0000
TZOFFSETTO:+0000
TZNAME:UTC
DTSTART:20250101T000000
END:STANDARD
END:VTIMEZONE
BEGIN:VEVENT
DTSTART;TZID=UTC:20260510T093000
DTEND;TZID=UTC:20260510T120000
DTSTAMP:20260421T110759
CREATED:20260217T164227Z
LAST-MODIFIED:20260301T105629Z
UID:670-1778405400-1778414400@natuerlichjulia.de
SUMMARY:Muttertags - Kräuterwanderung
DESCRIPTION:Ein Muttertag voller Herzensmomente\, Genuss & Naturzauber Schenke dir selbst und deiner Mama – oder einer Freundin – eine wertvolle Auszeit fern vom Alltag. Umgeben von blühenden Wiesen und duftenden Kräutern tauchen wir gemeinsam in die Welt der heimischen Wildpflanzen ein\, lernen sie zu erkennen und erfahren ihre kleinen Geheimnisse. Auf unserem Weg genießen wir ein liebevoll vorbereitetes Mini-Picknick\, die Ruhe der Natur und lassen die Zeit für einen Moment stillstehen. Zum Abschluss verwandeln wir unsere gesammelten Kräuterschätze in ein feines\, selbstgemachtes Kräutersalz – eine duftende Erinnerung an gemeinsame Stunden voller Verbundenheit. Preis pro Paar 60.- € Inkl. Mini – Picknick\, Rezept & Kräutersalz Dieser Kurs ist ausschließlich zu Zweit buchbar\, max. 10 Teilnehmer
URL:https://natuerlichjulia.de/wanderung/muttertags-kraeuterwanderung/
ATTACH;FMTTYPE=image/jpeg:https://natuerlichjulia.de/wp-content/uploads/2026/02/Eiswuerfel-Sommer.jpeg
END:VEVENT
BEGIN:VEVENT
DTSTART;TZID=UTC:20260614T100000
DTEND;TZID=UTC:20260614T140000
DTSTAMP:20260421T110759
CREATED:20260217T170245Z
LAST-MODIFIED:20260220T124232Z
UID:683-1781431200-1781445600@natuerlichjulia.de
SUMMARY:Hausapotheke Teil I
DESCRIPTION:Traditionelles Kräuterwissen mit allen Sinnen erleben \nGemeinsam begeben wir uns auf eine Kräuterwanderung und lernen heimische Pflanzen kennen\, die uns im Alltag auf natürliche Weise unterstützen können. Wir sammeln ausgewählte Kräuter und tauchen ein in ihr traditionelles Wissen\, ihre Wirkung und ihre vielseitige Verwendung. Dabei sprechen wir unter anderem über allgemeine Sammelregeln\, Konservierungsverfahren und weitere Grundlagen der Kräuterverarbeitung. \nIm Anschluss verarbeiten wir den Inhalt unseres Sammelkörbchens Schritt für Schritt zu wertvollen Produkten für die Hausapotheke. \nEin wohltuender Tee\, eine pflegende Salbe\, eine Tinktur sowie ein praktischer Roll-on\,….. entstehen in liebevoller Handarbeit – natürlich und zum Mitnehmen. \nGerade zu dieser Jahreszeit zeigt sich die Natur besonders großzügig: Holunder\, Johanniskraut\, Linde\, Spitzwegerich\, Nelkenwurz\, Schöllkraut und Frauenmantel stehen im Fokus dieser Kräuterauszeit. \nPreis pro Person 75.- € \nInkl. ausführlichem Skript\, Pausensnack und Getränke sowie sämtlichem Material \nMax. Teilnehmerzahl: 8 Personen
URL:https://natuerlichjulia.de/wanderung/hausapotheke-teil-i/
ATTACH;FMTTYPE=image/webp:https://natuerlichjulia.de/wp-content/uploads/2026/02/48529910-2486-4c94-a937-7f244fbb3f28.webp
END:VEVENT
BEGIN:VEVENT
DTSTART;TZID=UTC:20260619T180000
DTEND;TZID=UTC:20260619T210000
DTSTAMP:20260421T110759
CREATED:20260217T170559Z
LAST-MODIFIED:20260301T111540Z
UID:685-1781892000-1781902800@natuerlichjulia.de
SUMMARY:Sundowner - Sonnwend Wanderung
DESCRIPTION:Erlebe die Magie der Sommersonnwende – Sonnenlicht\, Kräuterzauber und Genuss \nZur Zeit der Sommersonnenwende erreicht die Sonne ihren höchsten Stand am Himmel. Es ist der längste Tag des Jahres – ein uraltes Schwellenfest\, das seit jeher als Moment der Fülle\, der Reife und der inneren Einkehr gefeiert wird. Die Natur steht in ihrer vollen Kraft\, die Pflanzen sind durchdrungen von Licht und Lebensenergie. \nBei einer kleinen\, abendlichen Kräuterwanderung tauchen wir in diese besondere Stimmung ein. Wir begegnen ausgewählten Sonnwend-Kräutern wie Johanniskraut\, das Licht und Lebensfreude schenkt\, sowie Beifuß\, der seit Jahrhunderten als Schutz- und Ritualpflanze geschätzt wird. Wir sammeln Kräuter\, lernen ihre Wirkung kennen und erfahren\, warum gerade zu dieser Jahreszeit ihre Kraft besonders stark ist. \nIm Anschluss stellen wir gemeinsam ein Sommersonnwend-Oxymel her. Oxymel\, eine traditionelle Mischung aus Honig\, Essig und Kräutern\, gilt seit der Antike als bewährtes Naturmittel zur Stärkung\, Reinigung und Vorbeugung. Unser Oxymel verbindet die süße\, nährende Kraft des Honigs mit der klärenden Wirkung des Essigs und den heilenden Eigenschaften der Kräuter – ein Elixier voller Sonnenenergie. \nMit einem köstlich wilden Sundowner genießen wir das letzte Licht des Tages\, während die Sonne langsam versinkt und die Magie der Sonnenwende spürbar wird. \nPreis pro Person 40.- € \nInkl. kleinem Skript\, Getränk und Oxymel zum Mitnehmen \nMax. Teilnehmerzahl: 10 Personen
URL:https://natuerlichjulia.de/wanderung/sundowner-sonnwend-wanderung/
ATTACH;FMTTYPE=image/jpeg:https://natuerlichjulia.de/wp-content/uploads/2026/02/natuerlichjulia_workshops_sundowner.jpg
END:VEVENT
BEGIN:VEVENT
DTSTART;TZID=UTC:20260712T100000
DTEND;TZID=UTC:20260712T140000
DTSTAMP:20260421T110759
CREATED:20260217T170706Z
LAST-MODIFIED:20260301T115940Z
UID:687-1783850400-1783864800@natuerlichjulia.de
SUMMARY:Sommerliche Naturkosmetik
DESCRIPTION:Tauche ein in die Welt der sommerlichen Kräuterpflege – genieße die Düfte der Natur und die Freude\, etwas Eigenes zu erschaffen – ein Erlebnis\, das Körper\, Geist und Herz berührt \nAuch in diesem Kurs starten wir mit einer achtsamen Wanderung durch die sommerliche Natur und entdecken die Kraft heimischer Wildkräuter. Gemeinsam sammeln wir die Pflanzen\, die uns die Natur gerade schenkt\, und lernen dabei ihre Wirkungen\, Verwendungsmöglichkeiten und besonderen Eigenschaften kennen. \nIm Anschluss verwandeln wir unsere gesammelten Schätze Schritt für Schritt in selbstgemachte Naturkosmetikprodukte. So entstehen unter anderem Bodyscrub\, ein erfrischendes Tonicum\, After-Sun-Pflege und weitere sommerliche Pflegeprodukte – alles aus natürlichen\, hochwertigen Zutaten und mit viel Liebe handgefertigt. \nDie Kombination aus Wanderung\, Naturbegegnung und kreativem Selbermachen macht diese Auszeit zu einem Erlebnis für alle Sinne. Du lernst nicht nur\, wie Kräuter und Pflanzen in der Kosmetik angewendet werden\, sondern nimmst auch wertvolle\, selbst hergestellte Produkte mit nach Hause\, die Haut und Seele gleichermaßen verwöhnen. \nPreis pro Person 75.- € \nInkl. ausführlichem Skript\, Pausensnack und Getränke sowie sämtlichem Material \nMax. Teilnehmerzahl: 8 Personen
URL:https://natuerlichjulia.de/wanderung/sommerliche-naturkosmetik/
ATTACH;FMTTYPE=image/jpeg:https://natuerlichjulia.de/wp-content/uploads/2026/02/natuerlichjulia_workshops_sommerliche-naturkosmetik.jpeg
END:VEVENT
BEGIN:VEVENT
DTSTART;TZID=UTC:20260717T173000
DTEND;TZID=UTC:20260717T200000
DTSTAMP:20260421T110759
CREATED:20260217T170802Z
LAST-MODIFIED:20260301T123559Z
UID:689-1784309400-1784318400@natuerlichjulia.de
SUMMARY:Abendlicher Kräuterspaziergang & Räucherbündel - Binden
DESCRIPTION:Ein Abend voller Kräuterduft und Blütenpracht – binde Dein eigenes Räucherbündel und nimm ein Stück Natur mit nach Hause \nBei einem gemütlichen Abendspaziergang durch unsere Wiesen genießen wir die letzten Sonnenstrahlen des Tages und die sommerliche Blütenpracht. Wir entdecken die Vielfalt der Kräuter\, ihre Düfte und besonderen Eigenschaften und erfahren dabei\, wie sie sich beim Räuchern einsetzen lassen. \nIm Anschluss gestalten wir unsere eigenen Räucherbündel – kleine duftende Schätze zum Mitnehmen. Hier verbinden sich Naturerlebnis\, Kreativität und Entspannung auf besondere Art und Weise. \nSo entsteht ein Abend voller Duft\, Licht und Kräuterfreude\, der zum Abschalten\, Auftanken und Genießen einlädt. \nPreis pro Person 30.- € \nInkl. Material \nMax. Teilnehmerzahl: 10 Personen
URL:https://natuerlichjulia.de/wanderung/abendlicher-kraeuterspaziergang-raeucherbuendel-binden/
ATTACH;FMTTYPE=image/jpeg:https://natuerlichjulia.de/wp-content/uploads/2026/02/natuerlichjulia_workshops_raeucherbuendel.jpg
END:VEVENT
END:VCALENDAR